Workbook

Sheet ENERO
C8: Republica Dominicana
B9: SERVICIO NACIONAL DE SALUD
B10: Informe Mensual de Almacen General,Despesa y Medicina
A12: ALMACEN | B12: DESPENSA | C12: _____________________________________________________
A13: ESTABLECIMIENTO | C13: HOSPITAL MUNICIPAL DE RESTAURACION
A14: AREA DE SALUD | C14: IV | E14: MES | F14: ENERO | H14: AÑO | I14: 2024
A16: Articulo | B16: Unidad | C16: Existencia | D16: Entrada | E16: Existencia | F16: Total | G16: Existencia | H16: Valor | I16: Valor
C17: Anterior | E17: Total | F17: CONSUMIDO | G17: Final | H17: Unitario | I17: Total
A18: ACEITE | B18: Galon | C18: 0.4 | D18: 3 | E18: =+C18+D18 -> 3.4 | F18: 2.9 | G18: =+E18-F18 -> 0.5 | H18: 1150 | I18: =G18*H18 -> 575
A19: AJO | B19: Libra | C19: 2.5 | D19: 9 | E19: =+C19+D19 -> 11.5 | F19: 9 | G19: =+E19-F19 -> 2.5 | H19: 200 | I19: =G19*H19 -> 500
A20: ARROZ | B20: Libra | C20: 50 | D20: 275 | E20: =+C20+D20 -> 325 | F20: 304 | G20: =+E20-F20 -> 21 | H20: 32 | I20: =G20*H20 -> 672
A21: AVENA | B21: Libra | C21: 2.5 | D21: 4 | E21: =+C21+D21 -> 6.5 | F21: 5 | G21: =+E21-F21 -> 1.5 | H21: 90 | I21: =G21*H21 -> 135
A22: AZUCAR | B22: Libra | C22: 15 | D22: 70 | E22: =+C22+D22 -> 85 | F22: 85 | G22: =+E22-F22 -> 0 | H22: 30 | I22: =G22*H22 -> 0
A23: BACALAO | B23: Libra | C23: 3 | D23: 5 | E23: =+C23+D23 -> 8 | F23: 5 | G23: =+E23-F23 -> 3 | H23: 180 | I23: =G23*H23 -> 540
A24: CAFÉ | B24: sobres | C24: 102 | D24: 144 | E24: =+C24+D24 -> 246 | F24: 174 | G24: =+E24-F24 -> 72 | H24: 18.3 | I24: =G24*H24 -> 1317.6
A25: CEBOLLA | B25: Libra | C25: 7.5 | D25: 60 | E25: =+C25+D25 -> 67.5 | F25: 66 | G25: =+E25-F25 -> 1.5 | H25: 70 | I25: =G25*H25 -> 105
A26: CHOCOLATE | B26: Unidad | C26: 46 | D26: 60 | E26: =+C26+D26 -> 106 | F26: 66 | G26: =+E26-F26 -> 40 | H26: 8 | I26: =G26*H26 -> 320
A27: CHULETA | B27: Libra | C27: 6 | D27: 10 | E27: =+C27+D27 -> 16 | F27: 12 | G27: =+E27-F27 -> 4 | H27: 150 | I27: =G27*H27 -> 600
A28: CODITO | B28: Libra | C28: 0 | D28: 0 | E28: =+C28+D28 -> 0 | F28: 0 | G28: =+E28-F28 -> 0 | H28: 40 | I28: =G28*H28 -> 0
A29: ESPAGUETIS Libra | C29: 6 | D29: 12 | E29: =+C29+D29 -> 18 | F29: 9 | G29: =+E29-F29 -> 9 | H29: 40 | I29: =G29*H29 -> 360
A30: ESPECIA | B30: Libra | C30: 19 | D30: 70 | E30: =+C30+D30 -> 89 | F30: 82 | G30: =+E30-F30 -> 7 | H30: 15 | I30: =G30*H30 -> 105
A31: FIDEO | B31: Libra | C31: 11 | D31: 12 | E31: =+C31+D31 -> 23 | F31: 14 | G31: =+E31-F31 -> 9 | H31: 40 | I31: =G31*H31 -> 360
A32: GALLETA | B32: Unidad | C32: 98 | D32: 288 | E32: =+C32+D32 -> 386 | F32: 346 | G32: =+E32-F32 -> 40 | H32: 5.6 | I32: =G32*H32 -> 224
A33: GUANDULES | B33: Lata | C33: 6 | D33: 12 | E33: =+C33+D33 -> 18 | F33: 14 | G33: =+E33-F33 -> 4 | H33: 70 | I33: =G33*H33 -> 280
A34: GUINEO | B34: Unidad | C34: 225 | D34: 700 | E34: =+C34+D34 -> 925 | F34: 850 | G34: =+E34-F34 -> 75 | H34: 5 | I34: =G34*H34 -> 375
A35: HABICHUELA | B35: Libra | C35: 14.5 | D35: 70 | E35: =+C35+D35 -> 84.5 | F35: 76 | G35: =+E35-F35 -> 8.5 | H35: 60 | I35: =G35*H35 -> 510
A36: HUEVO | B36: Carton | C36: 4 | D36: 9 | E36: =+C36+D36 -> 13 | F36: 7 | G36: =+E36-F36 -> 6 | H36: 200 | I36: =G36*H36 -> 1200
A37: JAMON | B37: Libra | C37: 4.5 | D37: 19 | E37: =+C37+D37 -> 23.5 | F37: 19 | G37: =+E37-F37 -> 4.5 | H37: 120 | I37: =G37*H37 -> 540
A38: JUGO PEQUEÑO | B38: Unidad | C38: 88 | D38: 198 | E38: =+C38+D38 -> 286 | F38: 238 | G38: =+E38-F38 -> 48 | H38: 20 | I38: =G38*H38 -> 960
A39: LECHE | B39: Lata | C39: 6.5 | D39: 5 | E39: =+C39+D39 -> 11.5 | F39: 8 | G39: =+E39-F39 -> 3.5 | H39: 1500 | I39: =G39*H39 -> 5250
A40: LECHE CARNATION | B40: Unidad | C40: 20 | D40: 38 | E40: =+C40+D40 -> 58 | F40: 42 | G40: =+E40-F40 -> 16 | H40: 70 | I40: =G40*H40 -> 1120
A41: LONGANIZA | B41: Libra | C41: 0 | D41: 0 | E41: =+C41+D41 -> 0 | F41: 0 | G41: =+E41-F41 -> 0 | H41: 120 | I41: =G41*H41 -> 0
... A51: QUESO B. | B51: Libra | C51: 8 | D51: 12 | E51: =+C51+D51 -> 20 | F51: 17 | G51: =+E51-F51 -> 3 | H51: 150 | I51: =G51*H51 -> 450
A52: QUESO GEO | B52: Libra | C52: =+[1]NOVIEMBRE!G65 -> 0 | D52: 22 | E52: =+C52+D52 -> 22 | F52: 16.2 | G52: =+E52-F52 -> 5.8 | H52: 250 | I52: =G52*H52 -> 1450
A53: SAL MOL. | B53: libra | C53: 5 | D53: 10 | E53: =+C53+D53 -> 15 | F53: 14 | G53: =+E53-F53 -> 1 | H53: 25 | I53: =G53*H53 -> 25
A54: SALAMI | B54: Libra | C54: 7 | D54: 14 | E54: =+C54+D54 -> 21 | F54: 14 | G54: =+E54-F54 -> 7 | H54: 120 | I54: =G54*H54 -> 840
A55: SALSA | B55: Sobre | C55: 35 | D55: 56 | E55: =+C55+D55 -> 91 | F55: 83 | G55: =+E55-F55 -> 8 | H55: 12 | I55: =G55*H55 -> 96
A56: SAZON EN P. | B56: Funda | C56: 0.03 | D56: 5 | E56: =+C56+D56 -> 5.03 | F56: 1 | G56: =+E56-F56 -> 4.03 | H56: 250 | I56: =G56*H56 -> 1007.5
A57: SOPA DE SOBRE | B57: Sobre | C57: 8 | D57: 12 | E57: =+C57+D57 -> 20 | F57: 16 | G57: =+E57-F57 -> 4 | H57: 40 | I57: =G57*H57 -> 160
A58: SOPITA | B58: Unidad | C58: 50 | D58: 192 | E58: =+C58+D58 -> 242 | F58: 218 | G58: =+E58-F58 -> 24 | H58: 7 | I58: =G58*H58 -> 168
...

Sheet FEBRERO
C8: Republica Dominicana
B9: SERVICIO NACIONAL DE SALUD
B10: Informe Mensual de Almacen General,Despesa y Medicina
A12: ALMACEN | B12: DESPENSA | C12: _____________________________________________________
A13: ESTABLECIMIENTO | C13: HOSPITAL MUNICIPAL DE RESTAURACION
A14: AREA DE SALUD | C14: IV | E14: MES | F14: FEBRERO | H14: AÑO | I14: 2024
A16: Articulo | B16: Unidad | C16: Existencia | D16: Entrada | E16: Existencia | F16: Total | G16: Existencia | H16: Valor | I16: Valor
C17: Anterior | E17: Total | F17: CONSUMIDO | G17: Final | H17: Unitario | I17: Total
A18: ACEITE | B18: Galon | C18: =+ENERO!G18 -> 0.5 | D18: 1 | E18: =+C18+D18 -> 1.5 | F18: 0.75 | G18: =+E18-F18 -> 0.75 | H18: 1150 | I18: =G18*H18 -> 862.5
A19: AJO | B19: Libra | C19: =+ENERO!G19 -> 2.5 | D19: 4 | E19: =+C19+D19 -> 6.5 | F19: 4 | G19: =+E19-F19 -> 2.5 | H19: 200 | I19: =G19*H19 -> 500
A20: ARROZ | B20: Libra | C20: =+ENERO!G20 -> 21 | D20: 125 | E20: =+C20+D20 -> 146 | F20: 111 | G20: =+E20-F20 -> 35 | H20: 32 | I20: =G20*H20 -> 1120
A21: AVENA | B21: Libra | C21: =+ENERO!G21 -> 1.5 | D21: 4 | E21: =+C21+D21 -> 5.5 | F21: 4 | G21: =+E21-F21 -> 1.5 | H21: 90 | I21: =G21*H21 -> 135
A22: AZUCAR | B22: Libra | C22: =+ENERO!G22 -> 0 | D22: 35 | E22: =+C22+D22 -> 35 | F22: 33 | G22: =+E22-F22 -> 2 | H22: 32 | I22: =G22*H22 -> 64
A23: BACALAO | B23: Libra | C23: =+ENERO!G23 -> 3 | D23: 5 | E23: =+C23+D23 -> 8 | F23: 4 | G23: =+E23-F23 -> 4 | H23: 180 | I23: =G23*H23 -> 720
A24: CAFÉ | B24: sobres | C24: =+ENERO!G24 -> 72 | D24: 96 | E24: =+C24+D24 -> 168 | F24: 120 | G24: =+E24-F24 -> 48 | H24: 18.3 | I24: =G24*H24 -> 878.4
A25: CEBOLLA | B25: Libra | C25: =+ENERO!G25 -> 1.5 | D25: 25 | E25: =+C25+D25 -> 26.5 | F25: 21 | G25: =+E25-F25 -> 5.5 | H25: 60 | I25: =G25*H25 -> 330
A26: CHOCOLATE | B26: Unidad | C26: =+ENERO!G26 -> 40 | D26: 60 | E26: =+C26+D26 -> 100 | F26: 50 | G26: =+E26-F26 -> 50 | H26: 8 | I26: =G26*H26 -> 400
A27: CHULETA | B27: Libra | C27: =+ENERO!G27 -> 4 | D27: 12 | E27: =+C27+D27 -> 16 | F27: 8.65 | G27: =+E27-F27 -> 7.35 | H27: 150 | I27: =G27*H27 -> 1102.5
A28: CODITO | B28: Libra | C28: =+ENERO!G28 -> 0 | D28: 0 | E28: =+C28+D28 -> 0 | F28: 0 | G28: =+E28-F28 -> 0 | H28: 40 | I28: =G28*H28 -> 0
A29: ESPAGUETIS Libra | C29: =+ENERO!G29 -> 9 | D29: 5 | E29: =+C29+D29 -> 14 | F29: 7 | G29: =+E29-F29 -> 7 | H29: 40 | I29: =G29*H29 -> 280
A30: ESPECIA | B30: Libra | C30: =+ENERO!G30 -> 7 | D30: 35 | E30: =+C30+D30 -> 42 | F30: 27 | G30: =+E30-F30 -> 15 | H30: 15 | I30: =G30*H30 -> 225
A31: FIDEO | B31: Libra | C31: =+ENERO!G31 -> 9 | D31: 10 | E31: =+C31+D31 -> 19 | F31: 12 | G31: =+E31-F31 -> 7 | H31: 40 | I31: =G31*H31 -> 280
A32: GALLETA | B32: Unidad | C32: =+ENERO!G32 -> 40 | D32: 81 | E32: =+C32+D32 -> 121 | F32: 117 | G32: =+E32-F32 -> 4 | H32: 5.6 | I32: =G32*H32 -> 22.4
A33: GUANDULES | B33: Lata | C33: =+ENERO!G33 -> 4 | D33: 8 | E33: =+C33+D33 -> 12 | F33: 9 | G33: =+E33-F33 -> 3 | H33: 80 | I33: =G33*H33 -> 240
A34: GUINEO | B34: Unidad | C34: =+ENERO!G34 -> 75 | D34: 400 | E34: =+C34+D34 -> 475 | F34: 400 | G34: =+E34-F34 -> 75 | H34: 5 | I34: =G34*H34 -> 375
A35: HABICHUELA | B35: Libra | C35: =+ENERO!G35 -> 8.5 | D35: 30 | E35: =+C35+D35 -> 38.5 | F35: 23 | G35: =+E35-F35 -> 15.5 | H35: 60 | I35: =G35*H35 -> 930
A36: HUEVO | B36: Carton | C36: =+ENERO!G36 -> 6 | D36: 5 | E36: =+C36+D36 -> 11 | F36: 5 | G36: =+E36-F36 -> 6 | H36: 200 | I36: =G36*H36 -> 1200
A37: JAMON | B37: Libra | C37: =+ENERO!G37 -> 4.5 | D37: 12 | E37: =+C37+D37 -> 16.5 | F37: 8 | G37: =+E37-F37 -> 8.5 | H37: 120 | I37: =G37*H37 -> 1020
A38: JUGO PEQUEÑO | B38: Unidad | C38: =+ENERO!G38 -> 48 | D38: 120 | E38: =+C38+D38 -> 168 | F38: 132 | G38: =+E38-F38 -> 36 | H38: 20 | I38: =G38*H38 -> 720
A39: LECHE | B39: Lata | C39: =+ENERO!G39 -> 3.5 | D39: 4 | E39: =+C39+D39 -> 7.5 | F39: 6.5 | G39: =+E39-F39 -> 1 | H39: 1500 | I39: =G39*H39 -> 1500
A40: LECHE CARNATION | B40: Unidad | C40: =+ENERO!G40 -> 16 | D40: 20 | E40: =+C40+D40 -> 36 | F40: 23 | G40: =+E40-F40 -> 13 | H40: 70 | I40: =G40*H40 -> 910
A41: LONGANIZA | B41: Libra | C41: =+ENERO!G41 -> 0 | D41: 0 | E41: =+C41+D41 -> 0 | F41: 0 | G41: =+E41-F41 -> 0 | H41: 120 | I41: =G41*H41 -> 0
... A62: YUCA | B62: Libra | C62: =+ENERO!G62 -> 0 | D62: 80 | E62: =+C62+D62 -> 80 | F62: 70 | G62: =+E62-F62 -> 10 | H62: 20 | I62: =G62*H62 -> 200
A63: VAINILLA | B63: POTE | D63: 1 | H63: 30 | I63: 30
A64: TOTAL | I64: =SUM(I18:I63) -> 22966.8
A69: Director | D69: Administrador | G69: Encg. De Depensa

Sheet MARZO
C8: Republica Dominicana
B9: SERVICIO NACIONAL DE SALUD
B10: Informe Mensual de Almacen General,Despesa y Medicina
A12: ALMACEN | B12: DESPENSA | C12: _____________________________________________________
A13: ESTABLECIMIENTO | C13: HOSPITAL MUNICIPAL DE RESTAURACION
A14: AREA DE SALUD | C14: IV | E14: MES | F14: MARZO | H14: AÑO | I14: 2024
A16: Articulo | B16: Unidad | C16: Existencia | D16: Entrada | E16: Existencia | F16: Total | G16: Existencia | H16: Valor | I16: Valor
C17: Anterior | E17: Total | F17: CONSUMIDO | G17: Final | H17: Unitario | I17: Total
A18: ACEITE | B18: Galon | C18: =+FEBRERO!G18 -> 0.75 | D18: 1 | E18: =+C18+D18 -> 1.75 | F18: 0.8 | G18: =+E18-F18 -> 0.95 | H18: 1150 | I18: =G18*H18 -> 1092.5
A19: AJO | B19: Libra | C19: =+FEBRERO!G19 -> 2.5 | D19: 3 | E19: =+C19+D19 -> 5.5 | F19: 3.5 | G19: =+E19-F19 -> 2 | H19: 200 | I19: =G19*H19 -> 400
A20: ARROZ | B20: Libra | C20: =+FEBRERO!G20 -> 35 | D20: 125 | E20: =+C20+D20 -> 160 | F20: 140 | G20: =+E20-F20 -> 20 | H20: 35 | I20: =G20*H20 -> 700
A21: AVENA | B21: Libra | C21: =+FEBRERO!G21 -> 1.5 | D21: 4 | E21: =+C21+D21 -> 5.5 | F21: 3 | G21: =+E21-F21 -> 2.5 | H21: 90 | I21: =G21*H21 -> 225
A22: AZUCAR | B22: Libra | C22: =+FEBRERO!G22 -> 2 | D22: 35 | E22: =+C22+D22 -> 37 | F22: 27 | G22: =+E22-F22 -> 10 | H22: 40 | I22: =G22*H22 -> 400
A23: BACALAO | B23: Libra | C23: =+FEBRERO!G23 -> 4 | D23: 5 | E23: =+C23+D23 -> 9 | F23: 6 | G23: =+E23-F23 -> 3 | H23: 180 | I23: =G23*H23 -> 540
A24: CAFÉ | B24: sobres | C24: =+FEBRERO!G24 -> 48 | D24: 144 | E24: =+C24+D24 -> 192 | F24: 132 | G24: =+E24-F24 -> 60 | H24: 18.33 | I24: =G24*H24 -> 1099.8
A25: CEBOLLA | B25: Libra | C25: =+FEBRERO!G25 -> 5.5 | D25: 25 | E25: =+C25+D25 -> 30.5 | F25: 23 | G25: =+E25-F25 -> 7.5 | H25: 70 | I25: =G25*H25 -> 525
A26: CHOCOLATE | B26: Unidad | C26: =+FEBRERO!G26 -> 50 | D26: 60 | E26: =+C26+D26 -> 110 | F26: 43 | G26: =+E26-F26 -> 67 | H26: 8 | I26: =G26*H26 -> 536
A27: CHULETA | B27: Libra | C27: =+FEBRERO!G27 -> 7.35 | D27: 12 | E27: =+C27+D27 -> 19.35 | F27: 4.35 | G27: =+E27-F27 -> 15 | H27: 150 | I27: =G27*H27 -> 2250
A28: CODITO | B28: Libra | C28: =+FEBRERO!G28 -> 0 | D28: 0 | E28: =+C28+D28 -> 0 | F28: 0 | G28: =+E28-F28 -> 0 | H28: 40 | I28: =G28*H28 -> 0
A29: ESPAGUETIS Libra | C29: =+FEBRERO!G29 -> 7 | D29: 10 | E29: =+C29+D29 -> 17 | F29: 10 | G29: =+E29-F29 -> 7 | H29: 40 | I29: =G29*H29 -> 280
A30: ESPECIA | B30: Libra | C30: =+FEBRERO!G30 -> 15 | D30: 35 | E30: =+C30+D30 -> 50 | F30: 30 | G30: =+E30-F30 -> 20 | H30: 15 | I30: =G30*H30 -> 300
A31: FIDEO | B31: Libra | C31: =+FEBRERO!G31 -> 7 | D31: 6 | E31: =+C31+D31 -> 13 | F31: 8 | G31: =+E31-F31 -> 5 | H31: 40 | I31: =G31*H31 -> 200
A32: GALLETA | B32: Unidad | C32: =+FEBRERO!G32 -> 4 | D32: 198 | E32: =+C32+D32 -> 202 | F32: 147 | G32: =+E32-F32 -> 55 | H32: 6.67 | I32: =G32*H32 -> 366.85
A33: GUANDULES | B33: Lata | C33: =+FEBRERO!G33 -> 3 | D33: 10 | E33: =+C33+D33 -> 13 | F33: 9 | G33: =+E33-F33 -> 4 | H33: 80 | I33: =G33*H33 -> 320
A34: GUINEO | B34: Unidad | C34: =+FEBRERO!G34 -> 75 | D34: 600 | E34: =+C34+D34 -> 675 | F34: 325 | G34: =+E34-F34 -> 350 | H34: 5 | I34: =G34*H34 -> 1750
A35: HABICHUELA | B35: Libra | C35: =+FEBRERO!G35 -> 15.5 | D35: 35 | E35: =+C35+D35 -> 50.5 | F35: 33 | G35: =+E35-F35 -> 17.5 | H35: 60 | I35: =G35*H35 -> 1050
A36: HUEVO | B36: Carton | C36: =+FEBRERO!G36 -> 6 | D36: 5 | E36: =+C36+D36 -> 11 | F36: 3 | G36: =+E36-F36 -> 8 | H36: 200 | I36: =G36*H36 -> 1600
A37: JAMON | B37: Libra | C37: =+FEBRERO!G37 -> 8.5 | D37: 12 | E37: =+C37+D37 -> 20.5 | F37: 8.86 | G37: =+E37-F37 -> 11.64 | H37: 120 | I37: =G37*H37 -> 1396.8
A38: JUGO PEQUEÑO | B38: Unidad | C38: =+FEBRERO!G38 -> 36 | D38: 144 | E38: =+C38+D38 -> 180 | F38: 87 | G38: =+E38-F38 -> 93 | H38: 20 | I38: =G38*H38 -> 1860
A39: LECHE | B39: Lata | C39: =+FEBRERO!G39 -> 1 | D39: 4 | E39: =+C39+D39 -> 5 | F39: 3.5 | G39: =+E39-F39 -> 1.5 | H39: 1500 | I39: =G39*H39 -> 2250
A40: LECHE CARNATION | B40: Unidad | C40: =+FEBRERO!G40 -> 13 | D40: 30 | E40: =+C40+D40 -> 43 | F40: 31 | G40: =+E40-F40 -> 12 | H40: 75 | I40: =G40*H40 -> 900
A41: LONGANIZA | B41: Libra | C41: =+FEBRERO!G41 -> 0 | D41: 0 | E41: =+C41+D41 -> 0 | F41: 0 | G41: =+E41-F41 -> 0 | H41: 120 | I41: =G41*H41 -> 0
... A62: YUCA | B62: Libra | C62: =+FEBRERO!G62 -> 10 | D62: 70 | E62: =+C62+D62 -> 80 | F62: 50 | G62: =+E62-F62 -> 30 | H62: 20 | I62: =G62*H62 -> 600
A63: TOTAL | I63: =SUM(I18:I62) -> 32096.2
A68: Director | D68: Administrador | G68: Encg. De Depensa

Sheet ABRIL
C8: Republica Dominicana
B9: SERVICIO NACIONAL DE SALUD
B10: Informe Mensual de Almacen General,Despesa y Medicina
A12: ALMACEN | B12: DESPENSA | C12: _____________________________________________________
A13: ESTABLECIMIENTO | C13: HOSPITAL MUNICIPAL DE RESTAURACION
A14: AREA DE SALUD | C14: IV | E14: MES | F14: ABRIL | H14: AÑO | I14: 2024
A16: Articulo | B16: Unidad | C16: Existencia | D16: Entrada | E16: Existencia | F16: Total | G16: Existencia | H16: Valor | I16: Valor
C17: Anterior | E17: Total | F17: CONSUMIDO | G17: Final | H17: Unitario | I17: Total
A18: ACEITE | B18: Galon | C18: =MARZO!G18 -> 0.95 | D18: 1.5 | E18: =+C18+D18 -> 2.45 | F18: 1.25 | G18: =+E18-F18 -> 1.2 | H18: 1100 | I18: =G18*H18 -> 1320
A19: AJO | B19: Libra | C19: =MARZO!G19 -> 2 | D19: 5 | E19: =+C19+D19 -> 7 | F19: 4.5 | G19: =+E19-F19 -> 2.5 | H19: 200 | I19: =G19*H19 -> 500
A20: ARROZ | B20: Libra | C20: =MARZO!G20 -> 20 | D20: 150 | E20: =+C20+D20 -> 170 | F20: 144.5 | G20: =+E20-F20 -> 25.5 | H20: 35 | I20: =G20*H20 -> 892.5
A21: AVENA | B21: Libra | C21: =MARZO!G21 -> 2.5 | D21: 4 | E21: =+C21+D21 -> 6.5 | F21: 3 | G21: =+E21-F21 -> 3.5 | H21: 90 | I21: =G21*H21 -> 315
A22: AZUCAR | B22: Libra | C22: =MARZO!G22 -> 10 | D22: 42 | E22: =+C22+D22 -> 52 | F22: 30 | G22: =+E22-F22 -> 22 | H22: 35 | I22: =G22*H22 -> 770
A23: BACALAO | B23: Libra | C23: =MARZO!G23 -> 3 | D23: 4 | E23: =+C23+D23 -> 7 | F23: 5 | G23: =+E23-F23 -> 2 | H23: 160 | I23: =G23*H23 -> 320
A24: CAFÉ | B24: sobres | C24: =MARZO!G24 -> 60 | D24: 144 | E24: =+C24+D24 -> 204 | F24: 103 | G24: =+E24-F24 -> 101 | H24: 18.33 | I24: =G24*H24 -> 1851.33
A25: CEBOLLA | B25: Libra | C25: =MARZO!G25 -> 7.5 | D25: 25 | E25: =+C25+D25 -> 32.5 | F25: 18.5 | G25: =+E25-F25 -> 14 | H25: 70 | I25: =G25*H25 -> 980
A26: CHOCOLATE | B26: Unidad | C26: =MARZO!G26 -> 67 | D26: 0 | E26: =+C26+D26 -> 67 | F26: 19 | G26: =+E26-F26 -> 48 | H26: 8 | I26: =G26*H26 -> 384
A27: CHULETA | B27: Libra | C27: =MARZO!G27 -> 15 | D27: 0 | E27: =+C27+D27 -> 15 | F27: 15 | G27: =+E27-F27 -> 0 | H27: 150 | I27: =G27*H27 -> 0
A28: CODITO | B28: Libra | C28: =MARZO!G28 -> 0 | D28: 0 | E28: =+C28+D28 -> 0 | F28: 0 | G28: =+E28-F28 -> 0 | H28: 40 | I28: =G28*H28 -> 0
A29: ESPAGUETIS Libra | C29: =MARZO!G29 -> 7 | D29: 6 | E29: =+C29+D29 -> 13 | F29: 7 | G29: =+E29-F29 -> 6 | H29: 35 | I29: =G29*H29 -> 210
A30: ESPECIA | B30: Libra | C30: =MARZO!G30 -> 20 | D30: 35 | E30: =+C30+D30 -> 55 | F30: 24 | G30: =+E30-F30 -> 31 | H30: 15 | I30: =G30*H30 -> 465
A31: FIDEO | B31: Libra | C31: =MARZO!G31 -> 5 | D31: 4 | E31: =+C31+D31 -> 9 | F31: 5 | G31: =+E31-F31 -> 4 | H31: 40 | I31: =G31*H31 -> 160
A32: GALLETA | B32: Unidad | C32: =MARZO!G32 -> 55 | D32: 234 | E32: =+C32+D32 -> 289 | F32: 152 | G32: =+E32-F32 -> 137 | H32: 6.67 | I32: =G32*H32 -> 913.79
A33: GUANDULES | B33: Lata | C33: =MARZO!G33 -> 4 | D33: 10 | E33: =+C33+D33 -> 14 | F33: 7 | G33: =+E33-F33 -> 7 | H33: 70 | I33: =G33*H33 -> 490
A34: GUINEO | B34: Unidad | C34: =MARZO!G34 -> 350 | D34: 600 | E34: =+C34+D34 -> 950 | F34: 175 | G34: =+E34-F34 -> 775 | H34: 4 | I34: =G34*H34 -> 3100
A35: HABICHUELA | B35: Libra | C35: =MARZO!G35 -> 17.5 | D35: 38 | E35: =+C35+D35 -> 55.5 | F35: 41 | G35: =+E35-F35 -> 14.5 | H35: 60 | I35: =G35*H35 -> 870
A36: HUEVO | B36: Carton | C36: =MARZO!G36 -> 8 | D36: 6 | E36: =+C36+D36 -> 14 | F36: 6 | G36: =+E36-F36 -> 8 | H36: 200 | I36: =G36*H36 -> 1600
A37: JAMON | B37: Libra | C37: =MARZO!G37 -> 11.64 | D37: 12 | E37: =+C37+D37 -> 23.64 | F37: 18.36 | G37: =+E37-F37 -> 5.28 | H37: 120 | I37: =G37*H37 -> 633.6
A38: JUGO PEQUEÑO | B38: Unidad | C38: =MARZO!G38 -> 93 | D38: 137 | E38: =+C38+D38 -> 230 | F38: 130 | G38: =+E38-F38 -> 100 | H38: 20 | I38: =G38*H38 -> 2000
A39: LECHE | B39: Lata | C39: =MARZO!G39 -> 1.5 | D39: 4 | E39: =+C39+D39 -> 5.5 | F39: 2.5 | G39: =+E39-F39 -> 3 | H39: 1500 | I39: =G39*H39 -> 4500
A40: LECHE CARNATION | B40: Unidad | C40: =MARZO!G40 -> 12 | D40: 30 | E40: =+C40+D40 -> 42 | F40: 22 | G40: =+E40-F40 -> 20 | H40: 70 | I40: =G40*H40 -> 1400
A41: LONGANIZA | B41: Libra | C41: =MARZO!G41 -> 0 | D41: 0 | E41: =+C41+D41 -> 0 | F41: 0 | G41: =+E41-F41 -> 0 | H41: 120 | I41: =G41*H41 -> 0
... A62: YUCA | B62: Libra | C62: =MARZO!G62 -> 30 | D62: 7 | E62: =+C62+D62 -> 37 | F62: 3 | G62: =+E62-F62 -> 34 | H62: 20 | I62: =G62*H62 -> 680
A63: TOTAL | I63: =SUM(I18:I62) -> 37867.22
A68: Director | D68: Administrador | G68: Encg. De Depensa

Sheet Mayo
C8: Republica Dominicana
B9: SERVICIO NACIONAL DE SALUD
B10: Informe Mensual de Almacen General,Despesa y Medicina
A12: ALMACEN | B12: DESPENSA | C12: _____________________________________________________
A13: ESTABLECIMIENTO | C13: HOSPITAL MUNICIPAL DE RESTAURACION
A14: AREA DE SALUD | C14: IV | E14: MES | F14: MAYO | H14: AÑO | I14: 2024
A16: Articulo | B16: Unidad | C16: Existencia | D16: Entrada | E16: Existencia | F16: Total | G16: Existencia | H16: Valor | I16: Valor
C17: Anterior | E17: Total | F17: CONSUMIDO | G17: Final | H17: Unitario | I17: Total
A18: ACEITE | B18: Galon | C18: 1 | D18: 2 | E18: 3 | F18: 1.75 | G18: =+E18-F18 -> 1.25 | H18: 600 | I18: 2078.35
A19: AJO | B19: Libra | C19: 3 | D19: 4 | E19: 7 | F19: 4 | G19: =+E19-F19 -> 3 | H19: 200 | I19: =+G19*H19 -> 600
A20: ARROZ | B20: Libra | C20: 40.5 | D20: 150 | E20: 190.5 | F20: 80.5 | G20: =+E20-F20 -> 110 | H20: 35 | I20: =+G20*H20 -> 3850
A21: AVENA | B21: Libra | C21: 2.5 | D21: 4 | E21: 6.5 | F21: 3 | G21: =+E21-F21 -> 3.5 | H21: 90 | I21: =+G21*H21 -> 315
A22: AZUCAR | B22: Libra | C22: 14 | D22: 30 | E22: 44 | F22: 32 | G22: =+E22-F22 -> 12 | H22: 35 | I22: =+G22*H22 -> 420
A23: BACALAO | B23: Libra | C23: 3 | D23: 4.5 | E23: 7.5 | F23: 5.78 | G23: =+E23-F23 -> 1.72 | H23: 160 | I23: =+G23*H23 -> 275.2
A24: CAFÉ | B24: sobres | C24: 89 | D24: 120 | E24: 209 | F24: 110 | G24: =+E24-F24 -> 99 | H24: 18.33 | I24: =+G24*H24 -> 1814.67
A25: CEBOLLA | B25: Libra | C25: 12 | D25: 20 | E25: 32 | F25: 23.5 | G25: =+E25-F25 -> 8.5 | H25: 70 | I25: =+G25*H25 -> 595
A26: CHOCOLATE | B26: Unidad | C26: 32 | D26: 60 | E26: 92 | F26: 34 | G26: =+E26-F26 -> 58 | H26: 10 | I26: =+G26*H26 -> 580
A27: CHULETA | B27: Libra | C27: 7 | E27: 7 | F27: 4.5 | G27: =+E27-F27 -> 2.5 | H27: 150 | I27: =+G27*H27 -> 375
A28: ESPAGUETIS Libra | C28: 6 | D28: 6 | E28: 12 | F28: 2 | G28: =+E28-F28 -> 10 | H28: 40 | I28: =+G28*H28 -> 400
A29: ESPECIA | B29: sobre | C29: 26 | D29: 28 | E29: 54 | F29: 34 | G29: =+E29-F29 -> 20 | H29: 15 | I29: =+G29*H29 -> 300
A30: FIDEO | B30: Libra | C30: 6 | D30: 10 | E30: 16 | F30: 9 | G30: =+E30-F30 -> 7 | H30: 40 | I30: =+G30*H30 -> 280
A31: GALLETA | B31: Unidad | C31: 86 | D31: 117 | E31: 203 | F31: 121 | G31: =+E31-F31 -> 82 | H31: 5.55 | I31: =+G31*H31 -> 455.1
A32: GUANDULES | B32: Lata | C32: 6 | D32: 8 | E32: 14 | F32: 8 | G32: =+E32-F32 -> 6 | H32: 70 | I32: =+G32*H32 -> 420
A33: GUINEO | B33: Unidad | C33: 500 | D33: 450 | E33: 950 | F33: 442 | G33: =+E33-F33 -> 508 | H33: 4 | I33: =+G33*H33 -> 2032
A34: HABICHUELA | B34: Libra | C34: 12 | D34: 28 | E34: 40 | F34: 19.5 | G34: =+E34-F34 -> 20.5 | H34: 60 | I34: =+G34*H34 -> 1230
A35: HUEVO | B35: Carton | C35: 6 | E35: 6 | F35: 4 | G35: =+E35-F35 -> 2 | H35: 200 | I35: =+G35*H35 -> 400
A36: JAMON | B36: Libra | C36: 2.14 | D36: 15 | E36: 17.14 | F36: 12.3 | G36: =+E36-F36 -> 4.84 | H36: 120 | I36: =+G36*H36 -> 580.8
A37: JUGO PEQUEÑO | B37: Unidad | C37: 96 | D37: 160 | E37: 256 | F37: 163 | G37: =+E37-F37 -> 93 | H37: 20 | I37: =+G37*H37 -> 1860
A38: LECHE | B38: Lata | C38: 2.5 | D38: 4 | E38: 6.5 | F38: 4 | G38: =+E38-F38 -> 2.5 | H38: 1500 | I38: =+G38*H38 -> 3750
A39: LECHE CARNATION | B39: Unidad | C39: 21 | D39: 30 | E39: 51 | F39: 24 | G39: =+E39-F39 -> 27 | H39: 70 | I39: =+G39*H39 -> 1890
A40: MAIZ | B40: Lata | C40: 4 | E40: 4 | G40: =+E40-F40 -> 4 | H40: 70 | I40: =+G40*H40 -> 280
A41: MANTEQUILLA | B41: LIBRAS | C41: 0.75 | D41: 5 | E41: 5.75 | F41: 3.25 | G41: =+E41-F41 -> 2.5 | H41: 6.81 | I41: =+G41*H41 -> 17.025
A42: MAYONESA | B42: Pote | C42: 3.5 | E42: 3.5 | F42: 3 | G42: =+E42-F42 -> 0.5 | H42: 150 | I42: =+G42*H42 -> 75
A43: OREGANO | B43: Libra | C43: 2 | E43: 2 | F43: 1.5 | G43: =+E43-F43 -> 0.5 | H43: 75 | I43: =+G43*H43 -> 37.5
A44: PAN | B44: Funda | C44: 10 | D44: 15 | E44: 25 | F44: 18.5 | G44: =+E44-F44 -> 6.5 | H44: 75 | I44: =+G44*H44 -> 487.5
A45: PAPA | B45: Libra | C45: 20 | D45: 40 | E45: 60 | F45: 20 | G45: =+E45-F45 -> 40 | H45: 50 | I45: =+G45*H45 -> 2000
A46: PLATANO | B46: Unidad | C46: 150 | D46: 150 | E46: 300 | F46: 200 | G46: =+E46-F46 -> 100 | H46: 20 | I46: =+G46*H46 -> 2000
A47: QUESO B. | B47: Libra | C47: 3 | D47: 12 | E47: 15 | F47: 15 | G47: =+E47-F47 -> 0 | H47: 150 | I47: =+G47*H47 -> 0 | J47: *
A48: QUESO GEO | B48: Libra | C48: 17 | E48: 17 | F48: 10.17 | G48: =+E48-F48 -> 6.83 | H48: 250 | I48: =+G48*H48 -> 1707.5
A49: SAL MOL. | B49: libra | C49: 8 | D49: 10 | E49: 18 | F49: 9 | G49: =+E49-F49 -> 9 | H49: 25 | I49: =+G49*H49 -> 225
...

Sheet JUNIO
C8: Republica Dominicana
B9: SERVICIO NACIONAL DE SALUD
B10: Informe Mensual de Almacen General,Despesa y Medicina
A12: ALMACEN | B12: DESPENSA | C12: _____________________________________________________
A13: ESTABLECIMIENTO | C13: HOSPITAL MUNICIPAL DE RESTAURACION
A14: AREA DE SALUD | C14: IV | E14: MES | F14: JUNIO | H14: AÑO | I14: 2024
A16: Articulo | B16: Unidad | C16: Existencia | D16: Entrada | E16: Existencia | F16: Total | G16: Existencia | H16: Valor | I16: Valor
C17: Anterior | E17: Total | F17: CONSUMIDO | G17: Final | H17: Unitario | I17: Total
A18: ACEITE | B18: Galon | C18: 1.25 | D18: 1 | E18: =+C18+D18 -> 2.25 | F18: =+E18-G18 -> 1.75 | G18: 0.5 | H18: 650 | I18: =+G18*H18 -> 325
A19: AJO | B19: Libra | C19: 3 | D19: 4 | E19: =+C19+D19 -> 7 | F19: =+E19-G19 -> 4 | G19: 3 | H19: 150 | I19: =+G19*H19 -> 450
A20: ARROZ | B20: Libra | C20: 110 | D20: 150 | E20: =+C20+D20 -> 260 | F20: 150 | G20: 110 | H20: 35 | I20: =+G20*H20 -> 3850
A21: AVENA | B21: Libra | C21: 3.5 | D21: 3 | E21: =+C21+D21 -> 6.5 | F21: =+E21-G21 -> 3 | G21: 3.5 | H21: 40 | I21: =+G21*H21 -> 140
A22: AZUCAR | B22: Libra | C22: 12 | D22: 40 | E22: =+C22+D22 -> 52 | F22: =+E22-G22 -> 28 | G22: 24 | H22: 34 | I22: =+G22*H22 -> 816
A23: BACALAO | B23: Libra | C23: 1.72 | D23: 5 | E23: =+C23+D23 -> 6.72 | F23: =+E23-G23 -> 3.22 | G23: 3.5 | H23: 160 | I23: =+G23*H23 -> 560
A24: CAFÉ | B24: sobres | C24: 99 | D24: 10 | E24: =+C24+D24 -> 109 | F24: =+E24-G24 -> 4 | G24: 105 | H24: 18.33 | I24: =+G24*H24 -> 1924.65
A25: CEBOLLA | B25: Libra | C25: 8.5 | D25: 25 | E25: =+C25+D25 -> 33.5 | F25: =+E25-G25 -> 20 | G25: 13.5 | H25: 70 | I25: =+G25*H25 -> 945
A26: CHOCOLATE | B26: Unidad | C26: 58 | D26: 60 | E26: =+C26+D26 -> 118 | F26: =+E26-G26 -> 37 | G26: 81 | H26: 10 | I26: =+G26*H26 -> 810
A27: CHULETA | B27: Libra | C27: 2.5 | D27: 0 | E27: =+C27+D27 -> 2.5 | F27: 2.5 | G27: 0 | H27: 0 | I27: =+G27*H27 -> 0
A28: ESPAGUETIS Libra | C28: 10 | D28: 0 | E28: =+C28+D28 -> 10 | F28: =+E28-G28 -> 5.5 | G28: 4.5 | H28: 40 | I28: =+G28*H28 -> 180
A29: ESPECIA | B29: sobre | C29: 20 | D29: 35 | E29: =+C29+D29 -> 55 | F29: =+E29-G29 -> 26 | G29: 29 | H29: 15 | I29: =+G29*H29 -> 435
A30: FIDEO | B30: Libra | C30: 7 | D30: 10 | E30: =+C30+D30 -> 17 | F30: =+E30-G30 -> 9 | G30: 8 | H30: 40 | I30: =+G30*H30 -> 320
A31: GALLETA | B31: Unidad | C31: 82 | D31: 14 | E31: =+C31+D31 -> 96 | F31: =+E31-G31 -> 33 | G31: 63 | H31: 5.55 | I31: =+G31*H31 -> 349.65
A32: GUANDULES | B32: Lata | C32: 6 | D32: 10 | E32: =+C32+D32 -> 16 | F32: =+E32-G32 -> 8 | G32: 8 | H32: 70 | I32: =+G32*H32 -> 560
A33: GUINEO | B33: Unidad | C33: 508 | D33: 450 | E33: =+C33+D33 -> 958 | F33: =+E33-G33 -> 558 | G33: 400 | H33: 4 | I33: =+G33*H33 -> 1600
A34: HABICHUELA | B34: Libra | C34: 20.5 | D34: 30 | E34: =+C34+D34 -> 50.5 | F34: =+E34-G34 -> 29.5 | G34: 21 | H34: 60 | I34: =+G34*H34 -> 1260
A35: HUEVO | B35: Carton | C35: 2 | D35: 4 | E35: =+C35+D35 -> 6 | F35: =+E35-G35 -> 3 | G35: 3 | H35: 200 | I35: =+G35*H35 -> 600
A36: JAMON | B36: Libra | C36: 4.84 | D36: 13 | E36: =+C36+D36 -> 17.84 | F36: =+E36-G36 -> 13.84 | G36: 4 | H36: 120 | I36: =+G36*H36 -> 480
A37: JUGO PEQUEÑO | B37: Unidad | C37: 93 | D37: 120 | E37: =+C37+D37 -> 213 | F37: =+E37-G37 -> 120 | G37: 93 | H37: 20 | I37: =+G37*H37 -> 1860
A38: LECHE | B38: Lata | C38: 2.5 | D38: 4 | E38: =+C38+D38 -> 6.5 | F38: =+E38-G38 -> 3.5 | G38: 3 | H38: 1600 | I38: =+G38*H38 -> 4800
A39: LECHE CARNATION | B39: Unidad | C39: 27 | D39: 22 | E39: =+C39+D39 -> 49 | F39: =+E39-G39 -> 26 | G39: 23 | H39: 70 | I39: =+G39*H39 -> 1610
A40: MAIZ | B40: Lata | C40: 4 | D40: 0 | E40: =+C40+D40 -> 4 | F40: =+E40-G40 -> 1 | G40: 3 | H40: 70 | I40: =+G40*H40 -> 210
A41: MANTEQUILLA | B41: LIBRAS | C41: 2.5 | D41: 10 | E41: =+C41+D41 -> 12.5 | F41: =+E41-G41 -> 5.5 | G41: 7 | H41: 75 | I41: =+G41*H41 -> 525
A42: MAYONESA | B42: Pote | C42: 0.5 | D42: 0 | E42: =+C42+D42 -> 0.5 | F42: 0.5 | G42: =+E42-F42 -> 0 | H42: 150 | I42: =+G42*H42 -> 0
A43: OREGANO | B43: Libra | C43: 0.5 | D43: 5 | E43: =+C43+D43 -> 5.5 | F43: =+E43-G43 -> 3.5 | G43: 2 | H43: 75 | I43: =+G43*H43 -> 150
A44: PAN | B44: Funda | C44: 6.5 | D44: 20 | E44: =+C44+D44 -> 26.5 | F44: =+E44-G44 -> 15.5 | G44: 11 | H44: 75 | I44: =+G44*H44 -> 825
A45: PAPA | B45: Libra | C45: 40 | D45: 10 | E45: =+C45+D45 -> 50 | F45: =+E45-G45 -> 31 | G45: 19 | H45: 50 | I45: =+G45*H45 -> 950
A46: PLATANO | B46: Unidad | C46: 100 | D46: 150 | E46: =+C46+D46 -> 250 | F46: =+E46-G46 -> 130 | G46: 120 | H46: 20 | I46: =+G46*H46 -> 2400
A47: QUESO B. | B47: Libra | C47: 0 | D47: 12 | E47: =+C47+D47 -> 12 | F47: =+E47-G47 -> 2 | G47: 10 | H47: 150 | I47: =+G47*H47 -> 1500 | J47: *
A48: QUESO GEO | B48: Libra | C48: 6.83 | D48: 10 | E48: =+C48+D48 -> 16.83 | F48: =+E48-G48 -> 10.83 | G48: 6 | H48: 250 | I48: =+G48*H48 -> 1500
A49: SALSA CHINA | B49: GALON | C49: 0 | D49: 1 | E49: =+C49+D49 -> 1 | F49: =+E49-G49 -> 0.25 | G49: 0.75 | H49: 300 | I49: =+G49*H49 -> 225
...

Sheet JULIO 
C8: Republica Dominicana
B9: SERVICIO NACIONAL DE SALUD
B10: Informe Mensual de Almacen General,Despesa y Medicina
A12: ALMACEN | B12: DESPENSA | C12: _____________________________________________________
A13: ESTABLECIMIENTO | C13: HOSPITAL MUNICIPAL DE RESTAURACION
A14: AREA DE SALUD | C14: IV | E14: MES | F14: JULIO | H14: AÑO | I14: 2024
A16: Articulo | B16: Unidad | C16: Existencia | D16: Entrada | E16: Existencia | F16: Total | G16: Existencia | H16: Valor | I16: Valor
C17: Anterior | E17: Total | F17: CONSUMIDO | G17: Final | H17: Unitario | I17: Total
A18: ACEITE | B18: Galon | C18: 0.5 | D18: 1.5 | E18: =+C18+D18 -> 2 | F18: 1.5 | G18: 0.5 | H18: 1100 | I18: =+G18*H18 -> 550
A19: AJO | B19: Libra | C19: 3 | D19: 4 | E19: =+C19+D19 -> 7 | F19: 4.5 | G19: 2.5 | H19: 150 | I19: =+G19*H19 -> 375
A20: ARROZ | B20: Libra | C20: 110 | D20: 125 | E20: =+C20+D20 -> 235 | F20: 180 | G20: 55 | H20: 35 | I20: =+G20*H20 -> 1925
A21: AVENA | B21: Libra | C21: 3.5 | D21: 3 | E21: =+C21+D21 -> 6.5 | F21: 4.5 | G21: 2 | H21: 90 | I21: =+G21*H21 -> 180
A22: AZUCAR | B22: Libra | C22: 24 | D22: 35 | E22: =+C22+D22 -> 59 | F22: 36.5 | G22: 22.5 | H22: 35 | I22: =+G22*H22 -> 787.5
A23: BACALAO | B23: Libra | C23: 3.5 | D23: 6 | E23: =+C23+D23 -> 9.5 | F23: 6 | G23: 3.5 | H23: 160 | I23: =+G23*H23 -> 560
A24: CAFÉ | B24: sobres | C24: 105 | D24: 108 | E24: =+C24+D24 -> 213 | F24: 143 | G24: 70 | H24: 25 | I24: =+G24*H24 -> 1750
A25: CEBOLLA | B25: Libra | C25: 13.5 | D25: 0 | E25: =+C25+D25 -> 13.5 | F25: 6.5 | G25: 7 | H25: 70 | I25: =+G25*H25 -> 490
A26: CHOCOLATE | B26: Unidad | C26: 81 | D26: 0 | E26: =+C26+D26 -> 81 | F26: 40 | G26: 41 | H26: 10 | I26: =+G26*H26 -> 410
A27: CHULETA | B27: Libra | C27: 0 | D27: 0 | E27: =+C27+D27 -> 0 | F27: 0 | G27: 0 | H27: 0 | I27: =+G27*H27 -> 0
A28: ESPAGUETIS Libra | C28: 4.5 | D28: 5 | E28: =+C28+D28 -> 9.5 | F28: 5.5 | G28: 4 | H28: 40 | I28: =+G28*H28 -> 160
A29: ESPECIA | B29: sobre | C29: 29 | D29: 33 | E29: =+C29+D29 -> 62 | F29: 35 | G29: 27 | H29: 15 | I29: =+G29*H29 -> 405
A30: FIDEO | B30: Libra | C30: 8 | D30: 8 | E30: =+C30+D30 -> 16 | F30: 10 | G30: 6 | H30: 40 | I30: =+G30*H30 -> 240
A31: GALLETA | B31: Unidad | C31: 63 | D31: 20 | E31: =+C31+D31 -> 83 | F31: 41 | G31: 42 | H31: 5.55 | I31: =+G31*H31 -> 233.1
A32: GUANDULES | B32: Lata | C32: 8 | D32: 8 | E32: =+C32+D32 -> 16 | F32: 8 | G32: 8 | H32: 80 | I32: =+G32*H32 -> 640
A33: GUINEO | B33: Unidad | C33: 400 | D33: 450 | E33: =+C33+D33 -> 850 | F33: 525 | G33: 325 | H33: 4 | I33: =+G33*H33 -> 1300
A34: HABICHUELA | B34: Libra | C34: 21 | D34: 28 | E34: =+C34+D34 -> 49 | F34: 31.5 | G34: 17.5 | H34: 70 | I34: =+G34*H34 -> 1225
A35: HUEVO | B35: Carton | C35: 3 | D35: 4 | E35: =+C35+D35 -> 7 | F35: 4 | G35: 3 | H35: 200 | I35: =+G35*H35 -> 600
A36: JAMON | B36: Libra | C36: 4 | D36: 14 | E36: =+C36+D36 -> 18 | F36: 14 | G36: 4 | H36: 120 | I36: =+G36*H36 -> 480
A37: JUGO PEQUEÑO | B37: Unidad | C37: 93 | D37: 144 | E37: =+C37+D37 -> 237 | F37: 154 | G37: 83 | H37: 20 | I37: =+G37*H37 -> 1660
A38: LECHE | B38: Lata | C38: 3 | D38: 3 | E38: =+C38+D38 -> 6 | F38: 4.25 | G38: 1.75 | H38: 1400 | I38: =+G38*H38 -> 2450
A39: LECHE CARNATION | B39: Unidad | C39: 23 | D39: 24 | E39: =+C39+D39 -> 47 | F39: 24 | G39: 23 | H39: 70 | I39: =+G39*H39 -> 1610
A40: MAIZ | B40: Lata | C40: 3 | D40: 0 | E40: =+C40+D40 -> 3 | F40: 0 | G40: 3 | H40: 70 | I40: =+G40*H40 -> 210
... A46: PLATANO | B46: Unidad | C46: 120 | D46: 150 | E46: =+C46+D46 -> 270 | F46: 165 | G46: 105 | H46: 20 | I46: =+G46*H46 -> 2100
A47: QUESO B. | B47: Libra | C47: 10 | D47: 12 | E47: =+C47+D47 -> 22 | F47: 14 | G47: 8 | H47: 120 | I47: =+G47*H47 -> 960 | J47: *
A48: QUESO GEO | B48: Libra | C48: 6 | D48: 10 | E48: =+C48+D48 -> 16 | F48: 8 | G48: 8 | H48: 250 | I48: =+G48*H48 -> 2000
A49: SALSA CHINA | B49: GALON | C49: 0.75 | D49: 1 | E49: =+C49+D49 -> 1.75 | F49: 0.75 | G49: 1 | H49: 300 | I49: =+G49*H49 -> 300
A50: SAL MOL. | B50: libra | C50: 10 | D50: 10 | E50: =+C50+D50 -> 20 | F50: 8.5 | G50: 11.5 | H50: 25 | I50: =+G50*H50 -> 287.5
A51: SALAMI | B51: Libra | C51: 8 | D51: 12 | E51: =+C51+D51 -> 20 | F51: 10 | G51: 10 | H51: 120 | I51: =+G51*H51 -> 1200
A52: SALSA | B52: Sobre | C52: 47 | D52: 56 | E52: =+C52+D52 -> 103 | F52: 57 | G52: 46 | H52: 12 | I52: =+G52*H52 -> 552
A53: SAZON EN P. | B53: funda/5libra | C53: 5.5 | D53: 0 | E53: =+C53+D53 -> 5.5 | F53: 2.5 | G53: 3 | H53: 50 | I53: =+G53*H53 -> 150
A54: SOPA DE SOBRE | B54: Sobre | C54: 10 | D54: 12 | E54: =+C54+D54 -> 22 | F54: 11 | G54: 11 | H54: 40 | I54: =+G54*H54 -> 440
...

Sheet AGOSTO
C8: Republica Dominicana
B9: SERVICIO NACIONAL DE SALUD
B10: Informe Mensual de Almacen General,Despesa y Medicina
A12: ALMACEN | B12: DESPENSA | C12: _____________________________________________________
A13: ESTABLECIMIENTO | C13: HOSPITAL MUNICIPAL DE RESTAURACION
A14: AREA DE SALUD | C14: IV | E14: MES | F14: AGOSTO | H14: AÑO | I14: 2024
A16: Articulo | B16: Unidad | C16: Existencia | D16: Entrada | E16: Existencia | F16: Total | G16: Existencia | H16: Valor | I16: Valor
C17: Anterior | E17: Total | F17: CONSUMIDO | G17: Final | H17: Unitario | I17: Total
A18: ACEITE | B18: Galon | C18: 0.5 | D18: =2+2 -> 4 | E18: =+C18+D18 -> 4.5 | F18: 2.05 | G18: =+E18-F18 -> 2.45 | H18: 862.07 | I18: =+G18*H18 -> 2112.0715
A19: AJO | B19: Libra | C19: 3 | D19: =4+5 -> 9 | E19: =+C19+D19 -> 12 | F19: 5 | G19: =+E19-F19 -> 7 | H19: 150 | I19: =+G19*H19 -> 1050
A20: ARROZ | B20: Libra | C20: 110 | D20: 250 | E20: =+C20+D20 -> 360 | F20: 218.5 | G20: =+E20-F20 -> 141.5 | H20: 34 | I20: =+G20*H20 -> 4811
A21: AVENA | B21: Libra | C21: 3.5 | D21: 6 | E21: =+C21+D21 -> 9.5 | F21: 5.25 | G21: =+E21-F21 -> 4.25 | H21: 90 | I21: =+G21*H21 -> 382.5
A22: AZUCAR | B22: Libra | C22: 24 | D22: 75 | E22: =+C22+D22 -> 99 | F22: 41.5 | G22: =+E22-F22 -> 57.5 | H22: 34 | I22: =+G22*H22 -> 1955
A23: BACALAO | B23: Libra | C23: 3.5 | D23: 8 | E23: =+C23+D23 -> 11.5 | F23: 5.25 | G23: =+E23-F23 -> 6.25 | H23: 160 | I23: =+G23*H23 -> 1000
A24: CAFÉ | B24: sobres | C24: 105 | D24: 288 | E24: =+C24+D24 -> 393 | F24: 160 | G24: =+E24-F24 -> 233 | H24: 15.8 | I24: =+G24*H24 -> 3681.4
A25: CEBOLLA | B25: Libra | C25: 13.5 | D25: 47 | E25: =+C25+D25 -> 60.5 | F25: 28 | G25: =+E25-F25 -> 32.5 | H25: 70 | I25: =+G25*H25 -> 2275
A26: CHOCOLATE | B26: Unidad | C26: 81 | D26: 60 | E26: =+C26+D26 -> 141 | F26: 85 | G26: =+E26-F26 -> 56 | H26: 10 | I26: =+G26*H26 -> 560
A27: ESPAGUETIS Libra | C27: 4.5 | D27: 16 | E27: =+C27+D27 -> 20.5 | F27: 8.5 | G27: =+E27-F27 -> 12 | H27: 35 | I27: =+G27*H27 -> 420
A28: ESPECIA | B28: sobre | C28: 29 | D28: 70 | E28: =+C28+D28 -> 99 | F28: 41 | G28: =+E28-F28 -> 58 | H28: 15 | I28: =+G28*H28 -> 870
A29: FIDEO | B29: Libra | C29: 8 | D29: 9 | E29: =+C29+D29 -> 17 | F29: 10 | G29: =+E29-F29 -> 7 | H29: 35 | I29: =+G29*H29 -> 245
A30: GALLETA | B30: Unidad | C30: 63 | D30: 279 | E30: =+C30+D30 -> 342 | F30: 188 | G30: =+E30-F30 -> 154 | H30: 4.66 | I30: =+G30*H30 -> 717.64
A31: GUANDULES | B31: Lata | C31: 8 | D31: 18 | E31: =+C31+D31 -> 26 | F31: 9 | G31: =+E31-F31 -> 17 | H31: 67.8 | I31: =+G31*H31 -> 1152.6
A32: GUINEO | B32: Unidad | C32: 400 | D32: 900 | E32: =+C32+D32 -> 1300 | F32: 700 | G32: =+E32-F32 -> 600 | H32: 4 | I32: =+G32*H32 -> 2400
A33: HABICHUELA | B33: Libra | C33: 21 | D33: 70 | E33: =+C33+D33 -> 91 | F33: 36 | G33: =+E33-F33 -> 55 | H33: 60 | I33: =+G33*H33 -> 3300
A34: HUEVO | B34: Carton | C34: 3 | D34: 11 | E34: =+C34+D34 -> 14 | F34: 4.5 | G34: =+E34-F34 -> 9.5 | H34: 200 | I34: =+G34*H34 -> 1900
A35: JAMON | B35: Libra | C35: 4 | D35: 22 | E35: =+C35+D35 -> 26 | F35: 11 | G35: =+E35-F35 -> 15 | H35: 120 | I35: =+G35*H35 -> 1800
A36: JUGO PEQUEÑO | B36: Unidad | C36: 93 | D36: 216 | E36: =+C36+D36 -> 309 | F36: 144 | G36: =+E36-F36 -> 165 | H36: 16.94 | I36: =+G36*H36 -> 2795.1
A37: LECHE | B37: Lata | C37: 3 | D37: 8 | E37: =+C37+D37 -> 11 | F37: 5.75 | G37: =+E37-F37 -> 5.25 | H37: 1400 | I37: =+G37*H37 -> 7350
A38: LECHE CARNATION | B38: Unidad | C38: 23 | D38: 63 | E38: =+C38+D38 -> 86 | F38: 37 | G38: =+E38-F38 -> 49 | H38: 75 | I38: =+G38*H38 -> 3675
A39: MAIZ | B39: Lata | C39: 3 | D39: 0 | E39: =+C39+D39 -> 3 | F39: 2 | G39: =+E39-F39 -> 1 | H39: 70 | I39: =+G39*H39 -> 70
... A45: PLATANO | B45: Unidad | C45: 120 | D45: 400 | E45: =+C45+D45 -> 520 | F45: 160 | G45: =+E45-F45 -> 360 | H45: 20 | I45: =+G45*H45 -> 7200
A46: QUESO B. | B46: Libra | C46: 10 | D46: 24 | E46: =+C46+D46 -> 34 | F46: 17.2 | G46: =+E46-F46 -> 16.8 | H46: 150 | I46: =+G46*H46 -> 2520 | J46: *
A47: QUESO GEO | B47: Libra | C47: 6 | D47: 20 | E47: =+C47+D47 -> 26 | F47: 9.75 | G47: =+E47-F47 -> 16.25 | H47: 211.86 | I47: =+G47*H47 -> 3442.725
A48: SALSA CHINA | B48: GALON | C48: 0.75 | D48: 1 | E48: =+C48+D48 -> 1.75 | F48: 0.85 | G48: =+E48-F48 -> 0.9 | H48: 300 | I48: =+G48*H48 -> 270
A49: SAL MOL. | B49: libra | C49: 10 | D49: 0 | E49: =+C49+D49 -> 10 | F49: 5.75 | G49: =+E49-F49 -> 4.25 | H49: 25 | I49: =+G49*H49 -> 106.25
A50: SALAMI | B50: Libra | C50: 8 | D50: 18 | E50: =+C50+D50 -> 26 | F50: 7 | G50: =+E50-F50 -> 19 | H50: 120 | I50: =+G50*H50 -> 2280
A51: SALSA | B51: Sobre | C51: 47 | D51: 112 | E51: =+C51+D51 -> 159 | F51: 64 | G51: =+E51-F51 -> 95 | H51: 12.71 | I51: =+G51*H51 -> 1207.45
A52: SAZON EN P. | B52: funda/5libra | C52: 5.5 | D52: 5 | E52: =+C52+D52 -> 10.5 | F52: 6 | G52: =+E52-F52 -> 4.5 | H52: 50 | I52: =+G52*H52 -> 225
A53: SOPA DE SOBRE | B53: Sobre | C53: 10 | D53: 24 | E53: =+C53+D53 -> 34 | F53: 13 | G53: =+E53-F53 -> 21 | H53: 33.89 | I53: =+G53*H53 -> 711.69
A54: SOPITA | B54: Unidad | C54: 101 | D54: 216 | E54: =+C54+D54 -> 317 | F54: 180 | G54: =+E54-F54 -> 137 | H54: 6.78 | I54: =+G54*H54 -> 928.86
...

Sheet SEPTIEMBRE
C8: Republica Dominicana
B9: SERVICIO NACIONAL DE SALUD
B10: Informe Mensual de Almacen General,Despesa y Medicina
A12: ALMACEN | B12: DESPENSA | C12: _____________________________________________________
A13: ESTABLECIMIENTO | C13: HOSPITAL MUNICIPAL DE RESTAURACION
A14: AREA DE SALUD | C14: IV | E14: MES | F14: SEPTIEMBRE | H14: AÑO | I14: 2024
A16: Articulo | B16: Unidad | C16: Existencia | D16: Entrada | E16: Existencia | F16: Total | G16: Existencia | H16: Valor | I16: Valor
C17: Anterior | E17: Total | F17: CONSUMIDO | G17: Final | H17: Unitario | I17: Total
A18: ACEITE | B18: Galon | C18: 2.45 | D18: 4 | E18: =+C18+D18 -> 6.45 | F18: 1.95 | G18: =+E18-F18 -> 4.5 | H18: 862.07 | I18: =+G18*H18 -> 3879.315
A19: AJO | B19: Libra | C19: 7 | D19: 9 | E19: =+C19+D19 -> 16 | F19: 4.5 | G19: =+E19-F19 -> 11.5 | H19: 150 | I19: =+G19*H19 -> 1725
A20: ARROZ | B20: Libra | C20: 141.5 | D20: 250 | E20: =+C20+D20 -> 391.5 | F20: 166.5 | G20: =+E20-F20 -> 225 | H20: 34 | I20: =+G20*H20 -> 7650
A21: AVENA | B21: Libra | C21: 4.25 | D21: 6 | E21: =+C21+D21 -> 10.25 | F21: 2.25 | G21: =+E21-F21 -> 8 | H21: 90 | I21: =+G21*H21 -> 720
A22: AZUCAR | B22: Libra | C22: 57.5 | D22: 75 | E22: =+C22+D22 -> 132.5 | F22: 37.5 | G22: =+E22-F22 -> 95 | H22: 34 | I22: =+G22*H22 -> 3230
A23: BACALAO | B23: Libra | C23: 6.25 | D23: 8 | E23: =+C23+D23 -> 14.25 | F23: 5 | G23: =+E23-F23 -> 9.25 | H23: 160 | I23: =+G23*H23 -> 1480
A24: CAFÉ | B24: sobres | C24: 233 | D24: 288 | E24: =+C24+D24 -> 521 | F24: 194 | G24: =+E24-F24 -> 327 | H24: 15.8 | I24: =+G24*H24 -> 5166.6
A25: CEBOLLA | B25: Libra | C25: 32.5 | D25: 47 | E25: =+C25+D25 -> 79.5 | F25: 23.5 | G25: =+E25-F25 -> 56 | H25: 70 | I25: =+G25*H25 -> 3920
A26: CHOCOLATE | B26: Unidad | C26: 56 | D26: 120 | E26: =+C26+D26 -> 176 | F26: 47 | G26: =+E26-F26 -> 129 | H26: 8 | I26: =+G26*H26 -> 1032
A27: ESPAGUETIS Libra | C27: 12 | D27: 16 | E27: =+C27+D27 -> 28 | F27: 6 | G27: =+E27-F27 -> 22 | H27: 35 | I27: =+G27*H27 -> 770
A28: ESPECIA | B28: sobre | C28: 58 | D28: 70 | E28: =+C28+D28 -> 128 | F28: 37 | G28: =+E28-F28 -> 91 | H28: 15 | I28: =+G28*H28 -> 1365
A29: FIDEO | B29: Libra | C29: 7 | D29: 19 | E29: =+C29+D29 -> 26 | F29: 1.75 | G29: =+E29-F29 -> 24.25 | H29: 35 | I29: =+G29*H29 -> 848.75
A30: GALLETA | B30: Unidad | C30: 154 | D30: 47 | E30: =+C30+D30 -> 201 | F30: 99 | G30: =+E30-F30 -> 102 | H30: 4.7 | I30: =+G30*H30 -> 479.4
A31: GUANDULES | B31: Lata | C31: 17 | D31: 18 | E31: =+C31+D31 -> 35 | F31: 10 | G31: =+E31-F31 -> 25 | H31: 67.8 | I31: =+G31*H31 -> 1695
A32: GUINEO | B32: Unidad | C32: 600 | D32: 900 | E32: =+C32+D32 -> 1500 | F32: 550 | G32: =+E32-F32 -> 950 | H32: 4 | I32: =+G32*H32 -> 3800
A33: HABICHUELA | B33: Libra | C33: 55 | D33: 70 | E33: =+C33+D33 -> 125 | F33: 35 | G33: =+E33-F33 -> 90 | H33: 60 | I33: =+G33*H33 -> 5400
A34: HUEVO | B34: Carton | C34: 9.5 | D34: 11 | E34: =+C34+D34 -> 20.5 | F34: 4.5 | G34: =+E34-F34 -> 16 | H34: 200 | I34: =+G34*H34 -> 3200
A35: JAMON | B35: Libra | C35: 15 | D35: 22 | E35: =+C35+D35 -> 37 | F35: 5 | G35: =+E35-F35 -> 32 | H35: 120 | I35: =+G35*H35 -> 3840
A36: JUGO PEQUEÑO | B36: Unidad | C36: 165 | D36: 216 | E36: =+C36+D36 -> 381 | F36: 121 | G36: =+E36-F36 -> 260 | H36: 16.95 | I36: =+G36*H36 -> 4407
A37: LECHE | B37: Lata | C37: 5.25 | D37: 8 | E37: =+C37+D37 -> 13.25 | F37: 4.25 | G37: =+E37-F37 -> 9 | H37: 1400 | I37: =+G37*H37 -> 12600
A38: LECHE CARNATION | B38: Unidad | C38: 49 | D38: 63 | E38: =+C38+D38 -> 112 | F38: 30 | G38: =+E38-F38 -> 82 | H38: 75 | I38: =+G38*H38 -> 6150
A39: MAIZ | B39: Lata | C39: 1 | D39: 0 | E39: =+C39+D39 -> 1 | F39: 0 | G39: =+E39-F39 -> 1 | H39: 67.8 | I39: =+G39*H39 -> 67.8
... A45: PLATANO | B45: Unidad | C45: 360 | D45: 400 | E45: =+C45+D45 -> 760 | F45: 216 | G45: =+E45-F45 -> 544 | H45: 20 | I45: =+G45*H45 -> 10880
A46: QUESO B. | B46: Libra | C46: 16.8 | D46: 24 | E46: =+C46+D46 -> 40.8 | F46: 19.8 | G46: =+E46-F46 -> 21 | H46: 150 | I46: =+G46*H46 -> 3150 | J46: *
A47: QUESO GEO | B47: Libra | C47: 16.25 | D47: 20 | E47: =+C47+D47 -> 36.25 | F47: 11.2 | G47: =+E47-F47 -> 25.05 | H47: 211.86 | I47: =+G47*H47 -> 5307.093
A48: SALSA CHINA | B48: GALON | C48: 0.9 | D48: 0 | E48: =+C48+D48 -> 0.9 | F48: 0.15 | G48: =+E48-F48 -> 0.75 | H48: 300 | I48: =+G48*H48 -> 225
A49: SAL MOL. | B49: libra | C49: 4.25 | D49: 10 | E49: =+C49+D49 -> 14.25 | F49: 0.25 | G49: =+E49-F49 -> 14 | H49: 25 | I49: =+G49*H49 -> 350
A50: SALAMI | B50: Libra | C50: 19 | D50: 18 | E50: =+C50+D50 -> 37 | F50: 15 | G50: =+E50-F50 -> 22 | H50: 120 | I50: =+G50*H50 -> 2640
A51: SALSA | B51: Sobre | C51: 95 | D51: 112 | E51: =+C51+D51 -> 207 | F51: 61 | G51: =+E51-F51 -> 146 | H51: 12.71 | I51: =+G51*H51 -> 1855.66
A52: SAZON EN P. | B52: funda/5libra | C52: 4.5 | D52: 5 | E52: =+C52+D52 -> 9.5 | F52: 4.25 | G52: =+E52-F52 -> 5.25 | H52: 50 | I52: =+G52*H52 -> 262.5
A53: SOPA DE SOBRE | B53: Sobre | C53: 21 | D53: 24 | E53: =+C53+D53 -> 45 | F53: 12 | G53: =+E53-F53 -> 33 | H53: 33.89 | I53: =+G53*H53 -> 1118.37
A54: SOPITA | B54: Unidad | C54: 137 | D54: 240 | E54: =+C54+D54 -> 377 | F54: 115 | G54: =+E54-F54 -> 262 | H54: 6.78 | I54: =+G54*H54 -> 1776.36
...

Sheet OCTUBRE
C8: Republica Dominicana
B9: SERVICIO NACIONAL DE SALUD
B10: Informe Mensual de Almacen General,Despesa y Medicina
A12: ALMACEN | B12: DESPENSA | C12: _____________________________________________________
A13: ESTABLECIMIENTO | C13: HOSPITAL MUNICIPAL DE RESTAURACION
A14: AREA DE SALUD | C14: IV | E14: MES | F14: OCTUBRE | H14: AÑO | I14: 2024
A16: Articulo | B16: Unidad | C16: Existencia | D16: Entrada | E16: Existencia | F16: Total | G16: Existencia | H16: Valor | I16: Valor
C17: Anterior | E17: Total | F17: CONSUMIDO | G17: Final | H17: Unitario | I17: Total
A18: ACEITE | B18: Galon | C18: 4.5 | D18: 0 | E18: 4.5 | F18: 1.5 | G18: =+E18-F18 -> 3 | H18: 862.07 | I18: =+G18*H18 -> 2586.21
A19: AJO | B19: Libra | C19: 11.5 | D19: 0 | E19: 11.5 | F19: 3 | G19: 8.5 | H19: 150 | I19: =+G19*H19 -> 1275
A20: ARROZ | B20: Libra | C20: 225 | D20: 0 | E20: 225 | F20: 135.5 | G20: =+E20-F20 -> 89.5 | H20: 34 | I20: =+G20*H20 -> 3043
A21: AVENA | B21: Libra | C21: 8 | D21: 0 | E21: 8 | F21: 2.4 | G21: 5.6 | H21: 90 | I21: =+G21*H21 -> 504
A22: AZUCAR | B22: Libra | C22: 95 | D22: 0 | E22: 95 | F22: 44.5 | G22: 50.5 | H22: 34 | I22: =+G22*H22 -> 1717
A23: BACALAO | B23: Libra | C23: 9.25 | D23: 0 | E23: 9.25 | F23: 3.25 | G23: 6 | H23: 160 | I23: =+G23*H23 -> 960
A24: CAFÉ | B24: sobres | C24: 327 | D24: 0 | E24: 327 | F24: 91 | G24: 236 | H24: 15.8 | I24: =+G24*H24 -> 3728.8
A25: CEBOLLA | B25: Libra | C25: 56 | D25: 0 | E25: 56 | F25: 23.5 | G25: 32.5 | H25: 70 | I25: =+G25*H25 -> 2275
A26: CHOCOLATE | B26: Unidad | C26: 129 | D26: 0 | E26: 129 | F26: 67 | G26: 62 | H26: 8 | I26: =+G26*H26 -> 496
A27: ESPAGUETIS Libra | C27: 22 | D27: 0 | E27: 22 | F27: 5 | G27: 17 | H27: 35 | I27: =+G27*H27 -> 595
A28: ESPECIA | B28: sobre | C28: 91 | D28: 0 | E28: 91 | F28: 37 | G28: 54 | H28: 15 | I28: =+G28*H28 -> 810
A29: FIDEO | B29: Libra | C29: 24.25 | D29: 0 | E29: 24.25 | F29: 6.25 | G29: 18 | H29: 35 | I29: =+G29*H29 -> 630
A30: GALLETA | B30: Unidad | C30: 102 | D30: 0 | E30: 102 | F30: 24 | G30: 78 | H30: 4.7 | I30: =+G30*H30 -> 366.6
A31: GUANDULES | B31: Lata | C31: 25 | D31: 0 | E31: 25 | F31: 11 | G31: 14 | H31: 67.8 | I31: =+G31*H31 -> 949.2
A32: GUINEO | B32: Unidad | C32: 950 | D32: 0 | E32: 950 | F32: 530 | G32: 420 | H32: 4 | I32: =+G32*H32 -> 1680
A33: HABICHUELA | B33: Libra | C33: 90 | D33: 0 | E33: 90 | F33: 23.5 | G33: 66.5 | H33: 60 | I33: =+G33*H33 -> 3990
A34: HUEVO | B34: Carton | C34: 16 | D34: 0 | E34: 16 | F34: 5 | G34: 11 | H34: 200 | I34: =+G34*H34 -> 2200
A35: JAMON | B35: Libra | C35: 32 | D35: 0 | E35: 32 | F35: 10 | G35: 22 | H35: 120 | I35: =+G35*H35 -> 2640
A36: JUGO PEQUEÑO | B36: Unidad | C36: 260 | D36: 0 | E36: 260 | F36: 63 | G36: 197 | H36: 16.95 | I36: =+G36*H36 -> 3339.15
A37: LECHE | B37: Lata | C37: 9 | D37: 0 | E37: 9 | F37: 2.1 | G37: 6.9 | H37: 1400 | I37: =+G37*H37 -> 9660
A38: LECHE CARNATION | B38: Unidad | C38: 82 | D38: 0 | E38: 82 | F38: 24 | G38: 58 | H38: 75 | I38: =+G38*H38 -> 4350
A39: MAIZ | B39: Lata | C39: 1 | D39: 0 | E39: 1 | F39: 0 | G39: 1 | H39: 67.8 | I39: =+G39*H39 -> 67.8
... A45: PLATANO | B45: Unidad | C45: 544 | D45: 0 | E45: 544 | F45: 192 | G45: 352 | H45: 20 | I45: =+G45*H45 -> 7040
A46: QUESO B. | B46: Libra | C46: 21 | D46: 0 | E46: 21 | F46: 10.25 | G46: 10.75 | H46: 150 | I46: =+G46*H46 -> 1612.5 | J46: *
A47: QUESO GEO | B47: Libra | C47: 25.05 | D47: 0 | E47: 25.05 | F47: 11.43 | G47: 13.62 | H47: 211.86 | I47: =+G47*H47 -> 2885.5332
A48: SALSA CHINA | B48: GALON | C48: 0.75 | D48: 0 | E48: 0.75 | F48: 0.25 | G48: 0.5 | H48: 300 | I48: =+G48*H48 -> 150
A49: SAL MOL. | B49: libra | C49: 14 | D49: 0 | E49: 14 | F49: 3.5 | G49: 10.5 | H49: 25 | I49: =+G49*H49 -> 262.5
A50: SALAMI | B50: Libra | C50: 22 | D50: 0 | E50: 22 | F50: 6 | G50: 16 | H50: 120 | I50: =+G50*H50 -> 1920
A51: SALSA | B51: Sobre | C51: 146 | D51: 0 | E51: 146 | F51: 48 | G51: 98 | H51: 12.71 | I51: =+G51*H51 -> 1245.58
A52: SAZON EN P. | B52: funda/5libra | C52: 5.25 | D52: 0 | E52: 5.25 | F52: 3.75 | G52: 1.5 | H52: 50 | I52: =+G52*H52 -> 75
A53: SOPA DE SOBRE | B53: Sobre | C53: 33 | D53: 0 | E53: 33 | F53: 10 | G53: 23 | H53: 33.89 | I53: =+G53*H53 -> 779.47
A54: SOPITA | B54: Unidad | C54: 262 | D54: 0 | E54: 262 | F54: 78 | G54: 184 | H54: 6.78 | I54: =+G54*H54 -> 1247.52
...

Sheet NOVIEMBRE
C8: Republica Dominicana
B9: SERVICIO NACIONAL DE SALUD
B10: Informe Mensual de Almacen General,Despesa y Medicina
A12: ALMACEN | B12: DESPENSA | C12: _____________________________________________________
A13: ESTABLECIMIENTO | C13: HOSPITAL MUNICIPAL DE RESTAURACION
A14: AREA DE SALUD | C14: IV | E14: MES | F14: NOVIEMBRE | H14: AÑO | I14: 2024
A16: Articulo | B16: Unidad | C16: Existencia | D16: Entrada | E16: Existencia | F16: Total | G16: Existencia | H16: Valor | I16: Valor
C17: Anterior | E17: Total | F17: CONSUMIDO | G17: Final | H17: Unitario | I17: Total
A18: ACEITE | B18: Galon | C18: 3 | D18: 0 | E18: 3 | F18: =+E18-G18 -> 2.5 | G18: 0.5 | H18: 862.07 | I18: =+G18*H18 -> 431.035
A19: AJO | B19: Libra | C19: 8.5 | D19: 0 | E19: 8.5 | F19: =+E19-G19 -> 5.5 | G19: 3 | H19: 150 | I19: =+G19*H19 -> 450
A20: ARROZ | B20: Libra | C20: 89.5 | D20: 0 | E20: 89.5 | F20: =+E20-G20 -> 49.5 | G20: 40 | H20: 34 | I20: =+G20*H20 -> 1360
A21: AVENA | B21: Libra | C21: 5.6 | D21: 0 | E21: 5.6 | F21: =+E21-G21 -> 2.85 | G21: 2.75 | H21: 90 | I21: =+G21*H21 -> 247.5
A22: AZUCAR | B22: Libra | C22: 50.5 | D22: 0 | E22: 50.5 | F22: =+E22-G22 -> 42.5 | G22: 8 | H22: 34 | I22: =+G22*H22 -> 272
A23: BACALAO | B23: Libra | C23: 6 | D23: 0 | E23: 6 | F23: =+E23-G23 -> 2 | G23: 4 | H23: 160 | I23: =+G23*H23 -> 640
A24: CAFÉ | B24: sobres | C24: 236 | D24: 0 | E24: 236 | F24: =+E24-G24 -> 177 | G24: 59 | H24: 15.8 | I24: =+G24*H24 -> 932.2
A25: CEBOLLA | B25: Libra | C25: 32.5 | D25: 0 | E25: 32.5 | F25: =+E25-G25 -> 24 | G25: 8.5 | H25: 70 | I25: =+G25*H25 -> 595
A26: CHOCOLATE | B26: Unidad | C26: 62 | D26: 0 | E26: 62 | F26: =+E26-G26 -> 48 | G26: 14 | H26: 8 | I26: =+G26*H26 -> 112
A27: ESPAGUETIS Libra | C27: 17 | D27: 0 | E27: 17 | F27: =+E27-G27 -> 7 | G27: 10 | H27: 35 | I27: =+G27*H27 -> 350
A28: ESPECIA | B28: sobre | C28: 54 | D28: 0 | E28: 54 | F28: =+E28-G28 -> 44 | G28: 10 | H28: 15 | I28: =+G28*H28 -> 150
A29: FIDEO | B29: Libra | C29: 18 | D29: 0 | E29: 18 | F29: =+E29-G29 -> 13.5 | G29: 4.5 | H29: 35 | I29: =+G29*H29 -> 157.5
A30: GALLETA | B30: Unidad | C30: 78 | D30: 0 | E30: 78 | F30: =+E30-G30 -> 50 | G30: 28 | H30: 4.7 | I30: =+G30*H30 -> 131.6
A31: GUANDULES | B31: Lata | C31: 14 | D31: 0 | E31: 14 | F31: =+E31-G31 -> 10 | G31: 4 | H31: 67.8 | I31: =+G31*H31 -> 271.2
A32: GUINEO | B32: Unidad | C32: 420 | D32: 0 | E32: 420 | F32: =+E32-G32 -> 195 | G32: 225 | H32: 4 | I32: =+G32*H32 -> 900
A33: HABICHUELA | B33: Libra | C33: 66.5 | D33: 0 | E33: 66.5 | F33: =+E33-G33 -> 32.5 | G33: 34 | H33: 60 | I33: =+G33*H33 -> 2040
A34: HUEVO | B34: Carton | C34: 11 | D34: 0 | E34: 11 | F34: =+E34-G34 -> 7 | G34: 4 | H34: 200 | I34: =+G34*H34 -> 800
A35: JAMON | B35: Libra | C35: 22 | D35: 0 | E35: 22 | F35: =+E35-G35 -> 13.09 | G35: 8.91 | H35: 120 | I35: =+G35*H35 -> 1069.2
A36: JUGO PEQUEÑO | B36: Unidad | C36: 197 | D36: 0 | E36: 197 | F36: =+E36-G36 -> 158 | G36: 39 | H36: 16.95 | I36: =+G36*H36 -> 661.05
A37: LECHE | B37: Lata | C37: 6.9 | D37: 0 | E37: 6.9 | F37: =+E37-G37 -> 5.4 | G37: 1.5 | H37: 1400 | I37: =+G37*H37 -> 2100
A38: LECHE CARNATION | B38: Unidad | C38: 58 | D38: 0 | E38: 58 | F38: =+E38-G38 -> 31 | G38: 27 | H38: 75 | I38: =+G38*H38 -> 2025
A39: MAIZ | B39: Lata | C39: 1 | D39: 0 | E39: 1 | F39: 0 | G39: 1 | H39: 67.8 | I39: =+G39*H39 -> 67.8
A40: MANTEQUILLA | B40: LIBRAS | C40: 11 | D40: 0 | E40: 11 | F40: =+E40-G40 -> 2 | G40: 9 | H40: 73.27 | I40: =+G40*H40 -> 659.43
A41: MAYONESA | B41: Pote | C41: 1.75 | D41: 0 | E41: 1.75 | F41: =+E41-G41 -> 0.25 | G41: 1.5 | H41: 150 | I41: =+G41*H41 -> 225
A42: OREGANO | B42: Libra | C42: 1 | D42: 0 | E42: 1 | F42: =+E42-G42 -> 0.25 | G42: 0.75 | H42: 75 | I42: =+G42*H42 -> 56.25
A43: PAN | B43: Funda | C43: 23 | D43: 0 | E43: 23 | F43: =+E43-G43 -> 14 | G43: 9 | H43: 75 | I43: =+G43*H43 -> 675
A44: PAPA | B44: Libra | C44: 20 | D44: 0 | E44: 20 | F44: =+E44-G44 -> 3.75 | G44: 16.25 | H44: 40 | I44: =+G44*H44 -> 650
A45: PLATANO | B45: Unidad | C45: 352 | D45: 0 | E45: 352 | F45: =+E45-G45 -> 202 | G45: 150 | H45: 20 | I45: =+G45*H45 -> 3000
A46: QUESO B. | B46: Libra | C46: 10.75 | D46: 0 | E46: 10.75 | F46: =+E46-G46 -> 3.75 | G46: 7 | H46: 150 | I46: =+G46*H46 -> 1050 | J46: *
A47: QUESO GEO | B47: Libra | C47: 13.62 | D47: 0 | E47: 13.62 | F47: =+E47-G47 -> 11.22 | G47: 2.4 | H47: 211.86 | I47: =+G47*H47 -> 508.464
A48: SALSA CHINA | B48: GALON | C48: 0.5 | D48: 0 | E48: 0.5 | F48: 0 | G48: 0.5 | H48: 300 | I48: =+G48*H48 -> 150
A49: SAL MOL. | B49: libra | C49: 10.5 | D49: 0 | E49: 10.5 | F49: =+E49-G49 -> 5.5 | G49: 5 | H49: 25 | I49: =+G49*H49 -> 125
...

Sheet DICIEMBRE 
C8: Republica Dominicana
B9: SERVICIO NACIONAL DE SALUD
B10: Informe Mensual de Almacen General,Despesa y Medicina
A12: ALMACEN | B12: DESPENSA | C12: _____________________________________________________
A13: ESTABLECIMIENTO | C13: HOSPITAL MUNICIPAL DE RESTAURACION
A14: AREA DE SALUD | C14: IV | E14: MES | F14: DICIEMBRE | H14: AÑO | I14: 2024
A16: Articulo | B16: Unidad | C16: Existencia | D16: Entrada | E16: Existencia | F16: Total | G16: Existencia | H16: Valor | I16: Valor
C17: Anterior | E17: Total | F17: CONSUMIDO | G17: Final | H17: Unitario | I17: Total
A18: ACEITE | B18: Galon | C18: 0.5 | D18: 2 | E18: =+C18+D18 -> 2.5 | F18: =+E18-G18 -> 2 | G18: 0.5 | H18: 1077.59 | I18: =+G18*H18 -> 538.795
A19: AJO | B19: Libra | C19: 3 | D19: 5 | E19: =+C19+D19 -> 8 | F19: =+E19-G19 -> 6.5 | G19: 1.5 | H19: 250 | I19: =+G19*H19 -> 375
A20: ARROZ | B20: Libra | C20: 40 | D20: 135 | E20: =+C20+D20 -> 175 | F20: =+E20-G20 -> 115 | G20: 60 | H20: 35 | I20: =+G20*H20 -> 2100
A21: ATUN | B21: Unidad | C21: 0 | D21: 4 | E21: =+C21+D21 -> 4 | F21: =+E21-G21 -> 4 | G21: 0 | H21: 105.93 | I21: =+G21*H21 -> 0
A22: AVENA | B22: Libra | C22: 2.75 | D22: 4 | E22: =+C22+D22 -> 6.75 | F22: =+E22-G22 -> 5.5 | G22: 1.25 | H22: 90 | I22: =+G22*H22 -> 112.5
A23: AZUCAR | B23: Libra | C23: 8 | D23: 45 | E23: =+C23+D23 -> 53 | F23: =+E23-G23 -> 43 | G23: 10 | H23: 34 | I23: =+G23*H23 -> 340
A24: BACALAO | B24: Libra | C24: 4 | D24: 5 | E24: =+C24+D24 -> 9 | F24: =+E24-G24 -> 4.2 | G24: 4.8 | H24: 200 | I24: =+G24*H24 -> 960
A25: CAFÉ | B25: sobres | C25: 59 | D25: 144 | E25: =+D25+C25 -> 203 | F25: =+E25-G25 -> 151 | G25: 52 | H25: 15.8 | I25: =+G25*H25 -> 821.6
A26: CEBOLLA | B26: Libra | C26: 8.5 | D26: 30 | E26: =+C26+D26 -> 38.5 | F26: =+E26-G26 -> 23.5 | G26: 15 | H26: 80 | I26: =+G26*H26 -> 1200
A27: CODITOS | B27: Libra | C27: 0 | D27: 6 | E27: =+C27+D27 -> 6 | F27: =+E27-G27 -> 6 | G27: 0 | H27: 35 | I27: =+G27*H27 -> 0
A28: CHOCOLATE | B28: Unidad | C28: 14 | D28: 60 | E28: =+C28+D28 -> 74 | F28: =+E28-G28 -> 43 | G28: 31 | H28: 8.47 | I28: =+G28*H28 -> 262.57
A29: ESPAGUETIS Libra | C29: 10 | D29: 8 | E29: =+C29+D29 -> 18 | F29: =+E29-G29 -> 8 | G29: 10 | H29: 35 | I29: =+G29*H29 -> 350
A30: ESPECIA | B30: sobre | C30: 10 | D30: 50 | E30: =+C30+D30 -> 60 | F30: =+E30-G30 -> 47 | G30: 13 | H30: 15 | I30: =+G30*H30 -> 195
A31: FIDEO | B31: Libra | C31: 4.5 | D31: 10 | E31: =+C31+D31 -> 14.5 | F31: =+E31-G31 -> 10.5 | G31: 4 | H31: 35 | I31: =+G31*H31 -> 140
A32: GALLETA | B32: Unidad | C32: 28 | D32: 135 | E32: =+C32+D32 -> 163 | F32: =+E32-G32 -> 107 | G32: 56 | H32: 4.7 | I32: =+G32*H32 -> 263.2
A33: GUANDULES | B33: Lata | C33: 4 | D33: 8 | E33: =+C33+D33 -> 12 | F33: =+E33-G33 -> 8 | G33: 4 | H33: 72.03 | I33: =+G33*H33 -> 288.12
A34: GUINEO | B34: Unidad | C34: 225 | D34: 450 | E34: =+C34+D34 -> 675 | F34: =+E34-G34 -> 675 | G34: 0 | H34: 4 | I34: =+G34*H34 -> 0
A35: HABICHUELA | B35: Libra | C35: 34 | D35: 0 | E35: =+C35+D35 -> 34 | F35: =+E35-G35 -> 32.75 | G35: 1.25 | H35: 60 | I35: =+G35*H35 -> 75
A36: HUEVO | B36: Carton | C36: 4 | D36: 5 | E36: =+C36+D36 -> 9 | F36: =+E36-G36 -> 3 | G36: 6 | H36: 200 | I36: =+G36*H36 -> 1200
A37: JAMON | B37: Libra | C37: 8.91 | D37: 12 | E37: =+C37+D37 -> 20.91 | F37: =+E37-G37 -> 15 | G37: 5.91 | H37: 120 | I37: =+G37*H37 -> 709.2
A38: JUGO GRANDE | B38: Unidad | C38: 0 | D38: 9 | E38: =+C38+D38 -> 9 | F38: =+E38-G38 -> 9 | G38: 0 | H38: 84.75 | I38: =+G38*H38 -> 0
A39: JUGO PEQUEÑO | B39: Unidad | C39: 39 | D39: 100 | E39: =+C39+D39 -> 139 | F39: =+E39-G39 -> 113 | G39: 26 | H39: 16.95 | I39: =+G39*H39 -> 440.7
A40: LECHE | B40: Lata | C40: 1.5 | D40: 4 | E40: =+C40+D40 -> 5.5 | F40: =+E40-G40 -> 4 | G40: 1.5 | H40: 1400 | I40: =+G40*H40 -> 2100
A41: LECHE CARNATION | B41: Unidad | C41: 27 | D41: 25 | E41: =+C41+D41 -> 52 | F41: =+E41-G41 -> 33 | G41: 19 | H41: 75 | I41: =+G41*H41 -> 1425
... A46: PAN | B46: Funda | C46: 9 | D46: 18 | E46: =+C46+D46 -> 27 | F46: =+E46-G46 -> 26 | G46: 1 | H46: 75 | I46: =+G46*H46 -> 75
A47: PASAS | B47: Unidad | C47: 0 | D47: 1 | E47: =+C47+D47 -> 1 | F47: 1 | G47: 0 | H47: 211.86 | I47: =+G47*H47 -> 0
A48: PIMIENTA | B48: Libra | C48: 0 | D48: 1 | E48: =+C48+D48 -> 1 | F48: 1 | G48: 0 | H48: 125 | I48: =+G48*H48 -> 0
A49: PAPA | B49: Libra | C49: 16.25 | D49: 40 | E49: =+C49+D49 -> 56.25 | F49: =+E49-G49 -> 26.25 | G49: 30 | H49: 50 | I49: =+G49*H49 -> 1500
A50: PLATANO | B50: Unidad | C50: 150 | D50: 250 | E50: =+C50+D50 -> 400 | F50: =+E50-G50 -> 284 | G50: 116 | H50: 20 | I50: =+G50*H50 -> 2320
A51: QUESO B. | B51: Libra | C51: 7 | D51: 12 | E51: =+C51+D51 -> 19 | F51: =+E51-G51 -> 19 | G51: 0 | H51: 150 | I51: =+G51*H51 -> 0 | J51: *
A52: QUESO GEO | B52: Libra | C52: 2.4 | D52: 12.25 | E52: =+C52+D52 -> 14.65 | F52: =+E52-G52 -> 8.8 | G52: 5.85 | H52: 211.86 | I52: =+G52*H52 -> 1239.381
A53: SALSA CHINA | B53: GALON | C53: 0.5 | D53: 0 | E53: =+C53+D53 -> 0.5 | F53: =+E53-G53 -> 0.05 | G53: 0.45 | H53: 300 | I53: =+G53*H53 -> 135
...

Sheet ENERO 2025
C8: Republica Dominicana
B9: SERVICIO NACIONAL DE SALUD
B10: Informe Mensual de Almacen General,Despesa y Medicina
A12: ALMACEN | B12: DESPENSA | C12: _____________________________________________________
A13: ESTABLECIMIENTO | C13: HOSPITAL MUNICIPAL DE RESTAURACION
A14: AREA DE SALUD | C14: IV | E14: MES | F14: ENERO | H14: AÑO | I14: 2025
A16: Articulo | B16: Unidad | C16: Existencia | D16: Entrada | E16: Existencia | F16: Total | G16: Existencia | H16: Valor | I16: Valor
C17: Anterior | E17: Total | F17: CONSUMIDO | G17: Final | H17: Unitario | I17: Total | M17: ENTRADA | O17: SALIDA
A18: ACEITE | B18: Galon | C18: 0.5 | D18: 2 | E18: 1.5 | F18: 0.75 | G18: 0.25 | H18: 650 | I18: =+G18*H18 -> 162.5 | M18: =+D18*H18 -> 1300 | O18: =+F18*H18 -> 487.5
A19: AJO | B19: Libra | C19: 1.5 | D19: 5 | E19: =+C19+D19 -> 6.5 | F19: =+E19-G19 -> 3.75 | G19: 2.75 | H19: 250 | I19: =+G19*H19 -> 687.5 | M19: =+D19*H19 -> 1250 | O19: =+F19*H19 -> 937.5
A20: ARROZ | B20: Libra | C20: 60 | D20: 125 | E20: =+C20+D20 -> 185 | F20: 95 | G20: 90 | H20: 34.8 | I20: =+G20*H20 -> 3132 | M20: =+D20*H20 -> 4350 | O20: =+F20*H20 -> 3306
A21: ATUN | B21: Unidad | C21: 0 | D21: 1 | E21: =+C21+D21 -> 1 | F21: 0 | G21: 0 | H21: 105.93 | I21: =+G21*H21 -> 0 | M21: =+D21*H21 -> 105.93 | O21: =+F21*H21 -> 0
A22: AVENA | B22: Libra | C22: 1.25 | D22: 4 | E22: =+C22+D22 -> 5.25 | F22: 2.25 | G22: 3 | H22: 90 | I22: =+G22*H22 -> 270 | M22: =+D22*H22 -> 360 | O22: =+F22*H22 -> 202.5
A23: AZUCAR | B23: Libra | C23: 10 | D23: 35 | E23: =+C23+D23 -> 45 | F23: 35 | G23: 10 | H23: 34 | I23: =+G23*H23 -> 340 | M23: =+D23*H23 -> 1190 | O23: =+F23*H23 -> 1190
A24: BACALAO | B24: Libra | C24: 4.8 | D24: 5 | E24: =+C24+D24 -> 9.8 | F24: 4 | G24: 3.8 | H24: 200 | I24: =+G24*H24 -> 760 | M24: =+D24*H24 -> 1000 | O24: =+F24*H24 -> 800
A25: CAFÉ | B25: sobres | C25: 52 | D25: 168 | E25: =+D25+C25 -> 220 | F25: =+E25-G25 -> 118 | G25: 102 | H25: 25 | I25: =+G25*H25 -> 2550 | M25: =+D25*H25 -> 4200 | O25: =+F25*H25 -> 2950
A26: CEBOLLA | B26: Libra | C26: 15 | D26: 10 | E26: =+C26+D26 -> 25 | F26: 15 | G26: 10 | H26: 90 | I26: =+G26*H26 -> 900 | M26: =+D26*H26 -> 900 | O26: =+F26*H26 -> 1350
A27: CODITOS | B27: Libra | C27: 0 | D27: 0 | E27: =+C27+D27 -> 0 | F27: 0 | G27: 0 | H27: 35 | I27: =+G27*H27 -> 0 | M27: =+D27*H27 -> 0 | O27: =+F27*H27 -> 0
A28: CHOCOLATE | B28: Unidad | C28: 31 | D28: 60 | E28: =+C28+D28 -> 91 | F28: =+E28-G28 -> 32 | G28: 59 | H28: 10 | I28: =+G28*H28 -> 590 | M28: =+D28*H28 -> 600 | O28: =+F28*H28 -> 320
A29: ESPAGUETIS Libra | C29: 10 | D29: 0 | E29: =+C29+D29 -> 10 | F29: 4 | G29: 6 | H29: 35 | I29: =+G29*H29 -> 210 | M29: =+D29*H29 -> 0 | O29: =+F29*H29 -> 140
A30: ESPECIA | B30: sobre | C30: 13 | D30: 35 | E30: =+C30+D30 -> 48 | F30: 28 | G30: 20 | H30: 15 | I30: =+G30*H30 -> 300 | M30: =+D30*H30 -> 525 | O30: =+F30*H30 -> 420
A31: FIDEO | B31: Libra | C31: 4 | D31: 10 | E31: =+C31+D31 -> 14 | F31: 7 | G31: 7 | H31: 35 | I31: =+G31*H31 -> 245 | M31: =+D31*H31 -> 350 | O31: =+F31*H31 -> 245
